BEGIN:VCALENDAR
VERSION:2.0
PRODID:-//Events Senderuela - ECPv6.15.17.1//NONSGML v1.0//EN
CALSCALE:GREGORIAN
METHOD:PUBLISH
X-ORIGINAL-URL:https://events.donal.info
X-WR-CALDESC:Events for Events Senderuela
REFRESH-INTERVAL;VALUE=DURATION:PT1H
X-Robots-Tag:noindex
X-PUBLISHED-TTL:PT1H
BEGIN:VTIMEZONE
TZID:Europe/Madrid
BEGIN:DAYLIGHT
TZOFFSETFROM:+0100
TZOFFSETTO:+0200
TZNAME:CEST
DTSTART:20240331T010000
END:DAYLIGHT
BEGIN:STANDARD
TZOFFSETFROM:+0200
TZOFFSETTO:+0100
TZNAME:CET
DTSTART:20241027T010000
END:STANDARD
BEGIN:DAYLIGHT
TZOFFSETFROM:+0100
TZOFFSETTO:+0200
TZNAME:CEST
DTSTART:20250330T010000
END:DAYLIGHT
BEGIN:STANDARD
TZOFFSETFROM:+0200
TZOFFSETTO:+0100
TZNAME:CET
DTSTART:20251026T010000
END:STANDARD
BEGIN:DAYLIGHT
TZOFFSETFROM:+0100
TZOFFSETTO:+0200
TZNAME:CEST
DTSTART:20260329T010000
END:DAYLIGHT
BEGIN:STANDARD
TZOFFSETFROM:+0200
TZOFFSETTO:+0100
TZNAME:CET
DTSTART:20261025T010000
END:STANDARD
BEGIN:DAYLIGHT
TZOFFSETFROM:+0100
TZOFFSETTO:+0200
TZNAME:CEST
DTSTART:20270328T010000
END:DAYLIGHT
BEGIN:STANDARD
TZOFFSETFROM:+0200
TZOFFSETTO:+0100
TZNAME:CET
DTSTART:20271031T010000
END:STANDARD
END:VTIMEZONE
BEGIN:VTIMEZONE
TZID:UTC
BEGIN:STANDARD
TZOFFSETFROM:+0000
TZOFFSETTO:+0000
TZNAME:UTC
DTSTART:20240101T000000
END:STANDARD
END:VTIMEZONE
BEGIN:VEVENT
DTSTART;TZID=Europe/Madrid:20260416T000000
DTEND;TZID=Europe/Madrid:20260416T235959
DTSTAMP:20260420T110827
CREATED:20250905T151937Z
LAST-MODIFIED:20250905T151937Z
UID:158-1776297600-1776383999@events.donal.info
SUMMARY:SONIDOS & SABORES
DESCRIPTION:
URL:https://events.donal.info/event/sonidos-sabores-7/
END:VEVENT
BEGIN:VEVENT
DTSTART;TZID=Europe/Madrid:20260402T000000
DTEND;TZID=Europe/Madrid:20260402T235959
DTSTAMP:20260420T110827
CREATED:20250905T125951Z
LAST-MODIFIED:20250905T125951Z
UID:113-1775088000-1775174399@events.donal.info
SUMMARY:CERVECHESS
DESCRIPTION:
URL:https://events.donal.info/event/cervechess-2-6/
END:VEVENT
BEGIN:VEVENT
DTSTART;TZID=Europe/Madrid:20260401T000000
DTEND;TZID=Europe/Madrid:20260401T235959
DTSTAMP:20260420T110827
CREATED:20250905T124311Z
LAST-MODIFIED:20250905T124503Z
UID:102-1775001600-1775087999@events.donal.info
SUMMARY:VINO & PINTURA
DESCRIPTION:
URL:https://events.donal.info/event/vino-pintura-2-3/
END:VEVENT
BEGIN:VEVENT
DTSTART;TZID=Europe/Madrid:20260329T000000
DTEND;TZID=Europe/Madrid:20260329T235959
DTSTAMP:20260420T110827
CREATED:20250905T150414Z
LAST-MODIFIED:20250905T150414Z
UID:133-1774742400-1774828799@events.donal.info
SUMMARY:JORNADA GASTRONOMICA
DESCRIPTION:
URL:https://events.donal.info/event/jornada-gastronomica-3-3/
END:VEVENT
BEGIN:VEVENT
DTSTART;TZID=UTC:20260326T000000
DTEND;TZID=UTC:20260326T235959
DTSTAMP:20260420T110827
CREATED:20250905T102146Z
LAST-MODIFIED:20250905T102433Z
UID:81-1774483200-1774569599@events.donal.info
SUMMARY:TRIVIA NIGHT
DESCRIPTION:
URL:https://events.donal.info/event/trivia-night-2-2-2-2/
END:VEVENT
BEGIN:VEVENT
DTSTART;TZID=Europe/Madrid:20260318T000000
DTEND;TZID=Europe/Madrid:20260318T000000
DTSTAMP:20260420T110827
CREATED:20250905T151849Z
LAST-MODIFIED:20250905T151849Z
UID:157-1773792000-1773792000@events.donal.info
SUMMARY:SONIDOS & SABORES
DESCRIPTION:
URL:https://events.donal.info/event/sonidos-sabores-6/
END:VEVENT
BEGIN:VEVENT
DTSTART;TZID=Europe/Madrid:20260304T000000
DTEND;TZID=Europe/Madrid:20260304T235959
DTSTAMP:20260420T110827
CREATED:20250905T125840Z
LAST-MODIFIED:20250905T125901Z
UID:112-1772582400-1772668799@events.donal.info
SUMMARY:CERVECHESS
DESCRIPTION:
URL:https://events.donal.info/event/cervechess-2-5/
END:VEVENT
BEGIN:VEVENT
DTSTART;TZID=Europe/Madrid:20260304T000000
DTEND;TZID=Europe/Madrid:20260304T000000
DTSTAMP:20260420T110827
CREATED:20250905T124208Z
LAST-MODIFIED:20250905T124208Z
UID:101-1772582400-1772582400@events.donal.info
SUMMARY:VINO & PINTURA
DESCRIPTION:
URL:https://events.donal.info/event/vino-pintura-2-2/
END:VEVENT
BEGIN:VEVENT
DTSTART;TZID=UTC:20260226T000000
DTEND;TZID=UTC:20260226T235959
DTSTAMP:20260420T110827
CREATED:20250905T101618Z
LAST-MODIFIED:20250905T101726Z
UID:77-1772064000-1772150399@events.donal.info
SUMMARY:TRIVIA NIGHT
DESCRIPTION:
URL:https://events.donal.info/event/trivia-night-2-2-2/
END:VEVENT
BEGIN:VEVENT
DTSTART;TZID=Europe/Madrid:20260222T000000
DTEND;TZID=Europe/Madrid:20260222T235959
DTSTAMP:20260420T110827
CREATED:20250905T150243Z
LAST-MODIFIED:20250905T150252Z
UID:132-1771718400-1771804799@events.donal.info
SUMMARY:JORNADA GASTRONOMICA
DESCRIPTION:
URL:https://events.donal.info/event/jornada-gastronomica-3-2/
END:VEVENT
BEGIN:VEVENT
DTSTART;TZID=Europe/Madrid:20260219T000000
DTEND;TZID=Europe/Madrid:20260219T000000
DTSTAMP:20260420T110827
CREATED:20250905T151726Z
LAST-MODIFIED:20250905T151726Z
UID:156-1771459200-1771459200@events.donal.info
SUMMARY:SONIDOS & SABORES
DESCRIPTION:
URL:https://events.donal.info/event/sonidos-sabores-5/
END:VEVENT
BEGIN:VEVENT
DTSTART;TZID=Europe/Madrid:20260205T000000
DTEND;TZID=Europe/Madrid:20260205T235959
DTSTAMP:20260420T110827
CREATED:20250905T125744Z
LAST-MODIFIED:20250905T125744Z
UID:111-1770249600-1770335999@events.donal.info
SUMMARY:CERVECHESS
DESCRIPTION:
URL:https://events.donal.info/event/cervechess-2-4/
END:VEVENT
BEGIN:VEVENT
DTSTART;TZID=Europe/Madrid:20260204T000000
DTEND;TZID=Europe/Madrid:20260204T235959
DTSTAMP:20260420T110827
CREATED:20250905T123836Z
LAST-MODIFIED:20250905T123846Z
UID:95-1770163200-1770249599@events.donal.info
SUMMARY:VINO & PINTURA
DESCRIPTION:
URL:https://events.donal.info/event/vino-pintura-4-2/
END:VEVENT
BEGIN:VEVENT
DTSTART;TZID=UTC:20260129T000000
DTEND;TZID=UTC:20260129T235959
DTSTAMP:20260420T110827
CREATED:20250905T100955Z
LAST-MODIFIED:20250905T101010Z
UID:75-1769644800-1769731199@events.donal.info
SUMMARY:TRIVIA NIGHT
DESCRIPTION:
URL:https://events.donal.info/event/trivia-night-2-2/
END:VEVENT
BEGIN:VEVENT
DTSTART;TZID=Europe/Madrid:20260125T000000
DTEND;TZID=Europe/Madrid:20260125T235959
DTSTAMP:20260420T110827
CREATED:20250905T145720Z
LAST-MODIFIED:20250905T150132Z
UID:128-1769299200-1769385599@events.donal.info
SUMMARY:JORNADA GASTRONOMICA
DESCRIPTION:
URL:https://events.donal.info/event/jornada-gastronomica-2/
END:VEVENT
BEGIN:VEVENT
DTSTART;TZID=Europe/Madrid:20260115T000000
DTEND;TZID=Europe/Madrid:20260115T235959
DTSTAMP:20260420T110827
CREATED:20250905T151544Z
LAST-MODIFIED:20250905T151544Z
UID:155-1768435200-1768521599@events.donal.info
SUMMARY:SONIDOS & SABORES
DESCRIPTION:
URL:https://events.donal.info/event/sonidos-sabores-4/
END:VEVENT
BEGIN:VEVENT
DTSTART;TZID=Europe/Madrid:20260107T000000
DTEND;TZID=Europe/Madrid:20260107T000000
DTSTAMP:20260420T110827
CREATED:20250905T123431Z
LAST-MODIFIED:20250905T123431Z
UID:92-1767744000-1767744000@events.donal.info
SUMMARY:VINO & PINTURA
DESCRIPTION:
URL:https://events.donal.info/event/vino-pintura-4/
END:VEVENT
BEGIN:VEVENT
DTSTART;TZID=Europe/Madrid:20260101T000000
DTEND;TZID=Europe/Madrid:20260101T235959
DTSTAMP:20260420T110827
CREATED:20250905T124908Z
LAST-MODIFIED:20250905T125642Z
UID:109-1767225600-1767311999@events.donal.info
SUMMARY:CERVECHESS
DESCRIPTION:
URL:https://events.donal.info/event/cervechess-2-2/
END:VEVENT
BEGIN:VEVENT
DTSTART;TZID=Europe/Madrid:20251218T000000
DTEND;TZID=Europe/Madrid:20251218T235959
DTSTAMP:20260420T110827
CREATED:20250905T151439Z
LAST-MODIFIED:20250905T151439Z
UID:154-1766016000-1766102399@events.donal.info
SUMMARY:SONIDOS & SABORES
DESCRIPTION:
URL:https://events.donal.info/event/sonidos-sabores-3/
END:VEVENT
BEGIN:VEVENT
DTSTART;TZID=Europe/Madrid:20251204T000000
DTEND;TZID=Europe/Madrid:20251204T000000
DTSTAMP:20260420T110827
CREATED:20250905T124947Z
LAST-MODIFIED:20250905T125015Z
UID:110-1764806400-1764806400@events.donal.info
SUMMARY:CERVECHESS
DESCRIPTION:
URL:https://events.donal.info/event/cervechess-2-3/
END:VEVENT
BEGIN:VEVENT
DTSTART;TZID=Europe/Madrid:20251203T000000
DTEND;TZID=Europe/Madrid:20251203T000000
DTSTAMP:20260420T110827
CREATED:20250905T123314Z
LAST-MODIFIED:20250905T123341Z
UID:90-1764720000-1764720000@events.donal.info
SUMMARY:VINO & PINTURA
DESCRIPTION:
URL:https://events.donal.info/event/vino-pintura-3/
END:VEVENT
BEGIN:VEVENT
DTSTART;TZID=Europe/Madrid:20251130T080000
DTEND;TZID=Europe/Madrid:20251130T170000
DTSTAMP:20260420T110827
CREATED:20250905T145938Z
LAST-MODIFIED:20250905T145938Z
UID:126-1764489600-1764522000@events.donal.info
SUMMARY:JORNADA GASTRONOMICA
DESCRIPTION:
URL:https://events.donal.info/event/jornada-gastronomica-3/
END:VEVENT
BEGIN:VEVENT
DTSTART;TZID=UTC:20251127T000000
DTEND;TZID=UTC:20251127T235959
DTSTAMP:20260420T110827
CREATED:20250905T100813Z
LAST-MODIFIED:20250905T100813Z
UID:73-1764201600-1764287999@events.donal.info
SUMMARY:TRIVIA NIGHT
DESCRIPTION:
URL:https://events.donal.info/event/trivia-night-2/
LOCATION:La Senderuela\, Calle Real\, 2\, Los Molinos\, Madrid\, 28460\, Spain
END:VEVENT
BEGIN:VEVENT
DTSTART;TZID=Europe/Madrid:20251120T000000
DTEND;TZID=Europe/Madrid:20251120T235959
DTSTAMP:20260420T110827
CREATED:20250905T151349Z
LAST-MODIFIED:20250905T151349Z
UID:153-1763596800-1763683199@events.donal.info
SUMMARY:SONIDOS & SABORES
DESCRIPTION:
URL:https://events.donal.info/event/sonidos-sabores-2/
END:VEVENT
BEGIN:VEVENT
DTSTART;TZID=Europe/Madrid:20251106T000000
DTEND;TZID=Europe/Madrid:20251106T235959
DTSTAMP:20260420T110827
CREATED:20250905T130219Z
LAST-MODIFIED:20250905T130219Z
UID:114-1762387200-1762473599@events.donal.info
SUMMARY:CERVECHESS
DESCRIPTION:
URL:https://events.donal.info/event/cervechess-2-8/
END:VEVENT
BEGIN:VEVENT
DTSTART;TZID=Europe/Madrid:20251105T000000
DTEND;TZID=Europe/Madrid:20251105T235959
DTSTAMP:20260420T110827
CREATED:20250905T123049Z
LAST-MODIFIED:20250905T124009Z
UID:88-1762300800-1762387199@events.donal.info
SUMMARY:VINO & PINTURA
DESCRIPTION:
URL:https://events.donal.info/event/vino-pintura-2/
END:VEVENT
BEGIN:VEVENT
DTSTART;TZID=UTC:20251031T000000
DTEND;TZID=UTC:20251031T235959
DTSTAMP:20260420T110827
CREATED:20250905T095612Z
LAST-MODIFIED:20250905T095612Z
UID:67-1761868800-1761955199@events.donal.info
SUMMARY:HALLOWEEN
DESCRIPTION:
URL:https://events.donal.info/event/halloween/
LOCATION:La Senderuela\, Calle Real\, 2\, Los Molinos\, Madrid\, 28460\, Spain
END:VEVENT
BEGIN:VEVENT
DTSTART;TZID=UTC:20251030T000000
DTEND;TZID=UTC:20251030T235959
DTSTAMP:20260420T110827
CREATED:20250905T094952Z
LAST-MODIFIED:20250905T100131Z
UID:61-1761782400-1761868799@events.donal.info
SUMMARY:TRIVIA NIGHT
DESCRIPTION:
URL:https://events.donal.info/event/trivia-night/
LOCATION:La Senderuela\, Calle Real\, 2\, Los Molinos\, Madrid\, 28460\, Spain
END:VEVENT
BEGIN:VEVENT
DTSTART;TZID=UTC:20251026T000000
DTEND;TZID=UTC:20251026T235959
DTSTAMP:20260420T110827
CREATED:20250905T095903Z
LAST-MODIFIED:20250905T100459Z
UID:69-1761436800-1761523199@events.donal.info
SUMMARY:JORNADA GASTRONOMICA
DESCRIPTION:
URL:https://events.donal.info/event/jornada-gastronomica/
LOCATION:La Senderuela\, Calle Real\, 2\, Los Molinos\, Madrid\, 28460\, Spain
END:VEVENT
BEGIN:VEVENT
DTSTART;TZID=Europe/Madrid:20251023T080000
DTEND;TZID=Europe/Madrid:20251023T170000
DTSTAMP:20260420T110827
CREATED:20250905T151034Z
LAST-MODIFIED:20250905T151034Z
UID:151-1761206400-1761238800@events.donal.info
SUMMARY:SONIDOS & SABORES
DESCRIPTION:
URL:https://events.donal.info/event/sonidos-sabores/
END:VEVENT
END:VCALENDAR